BEGIN:VCALENDAR
VERSION:2.0
PRODID:icalendar-ruby
CALSCALE:GREGORIAN
METHOD:PUBLISH
BEGIN:VEVENT
DTSTAMP:20260423T212648Z
UID:7-232563@newlandumc.org
DTSTART:20261011T134500Z
DTEND:20261011T150000Z
CLASS:PUBLIC
CREATED:20260423T143426
DESCRIPTION:
LAST-MODIFIED:20260423T143426
LOCATION:
SUMMARY:Sunday Worship
URL;VALUE=URI:https://newlandumc.org/events/sunday-worship--6/2026-10-11
END:VEVENT
END:VCALENDAR
