BEGIN:VCALENDAR
VERSION:2.0
PRODID:icalendar-ruby
CALSCALE:GREGORIAN
METHOD:PUBLISH
BEGIN:VEVENT
DTSTAMP:20260424T000401Z
UID:7-232629@newlandumc.org
DTSTART:20261025T134500Z
DTEND:20261025T150000Z
CLASS:PUBLIC
CREATED:20260423T172854
DESCRIPTION:
LAST-MODIFIED:20260423T172854
LOCATION:
SUMMARY:Sunday Worship
URL;VALUE=URI:https://newlandumc.org/events/sunday-worship--6/2026-10-25
END:VEVENT
END:VCALENDAR
