BEGIN:VCALENDAR
VERSION:2.0
PRODID:icalendar-ruby
CALSCALE:GREGORIAN
METHOD:PUBLISH
BEGIN:VEVENT
DTSTAMP:20260424T012438Z
UID:7-232694@newlandumc.org
DTSTART:20261101T144500Z
DTEND:20261101T160000Z
CLASS:PUBLIC
CREATED:20260423T202202
DESCRIPTION:
LAST-MODIFIED:20260423T202202
LOCATION:
SUMMARY:Sunday Worship
URL;VALUE=URI:https://newlandumc.org/events/sunday-worship--6/2026-11-01
END:VEVENT
END:VCALENDAR
